BEGIN:VCALENDAR
VERSION:2.0
PRODID:-//Plone.org//NONSGML plone.app.event//EN
X-WR-TIMEZONE:Europe/Berlin
BEGIN:VEVENT
SUMMARY:Gewerkschaftliches Abhängen
DTSTART;TZID=Europe/Berlin;VALUE=DATE-TIME:20340322T180000
DTEND;TZID=Europe/Berlin;VALUE=DATE-TIME:20340322T200000
DTSTAMP;VALUE=DATE-TIME:20260421T155944Z
UID:e470f2be7a5d4a1ebe26508dda51ac30@plone
CATEGORIES:T,e,r,m,i,n
CONTACT:Sekretariat FAU Rostock\, 015204262843\, fauhro-sekretariat(ät)fa
 u.org
CREATED;VALUE=DATE-TIME:20251203T182449Z
DESCRIPTION:Jeden vierten Mittwoch im Monat treffen sich Mitglieder der FA
 U Rostock um gemeinsam gewerkschaftliche Aufgaben zu erledigen. Lieber zus
 ammen als allein Zuhaus!\n\nDie Veranstaltung ist auch offen für nicht- M
 itglieder um sich über die FAU Rostock zu informieren\, oder ungezwungen 
 mal reinzuschnuppern.\n\nAlso kommt gerne vorbei!
LAST-MODIFIED;VALUE=DATE-TIME:20251203T183132Z
LOCATION:Stadtteilladen "Die Werder"\, Neue Werderstraße 16\, 18057 Rosto
 ck
URL:https://www.fau.org/vor-ort/rostock/gewerkschaftliches-abhaegnge/2034-
 03-22
END:VEVENT
BEGIN:VTIMEZONE
TZID:Europe/Berlin
X-LIC-LOCATION:Europe/Berlin
BEGIN:STANDARD
DTSTART;VALUE=DATE-TIME:20331030T020000
TZNAME:CET
TZOFFSETFROM:+0200
TZOFFSETTO:+0100
END:STANDARD
END:VTIMEZONE
END:VCALENDAR
