BEGIN:VCALENDAR
VERSION:2.0
PRODID:-//Plone.org//NONSGML plone.app.event//EN
X-WR-TIMEZONE:Europe/Berlin
BEGIN:VEVENT
SUMMARY:GewerkschaftsTour - Nähfabriken in Asien
DTSTART;TZID=Europe/Berlin;VALUE=DATE-TIME:20191020T180000
DTSTAMP;VALUE=DATE-TIME:20260424T074339Z
UID:79089cd61bf2446db35d7cc6609a783e@plone
CATEGORIES:I,n,t,e,r,n,a,t,i,o,n,a,l,e,s
CATEGORIES:S,o,l,i,d,a,r,i,t,ä,t
CATEGORIES:u,n,i,o,n,t,o,u,r,2,0,1,9
CONTACT:faukl3@fau.org\, https://kaiserslautern.fau.org/events/naehfabrike
 n-in-asien/
CREATED;VALUE=DATE-TIME:20190925T090114Z
DESCRIPTION:So gut wie alle von uns tragen Klamotten aus den Nähfabriken 
 in Asien. Höchste Zeit von den Leute vor Ort zu hören und sich mit ihnen
  zu vernetzen.
LAST-MODIFIED;VALUE=DATE-TIME:20191001T152706Z
LOCATION:Vielfalter KL e.V (Pirmasenser Str. 20a\, 67655 Kaiserslautern)
URL:https://www.fau.org/vor-ort/pfalz-saar/naehfabriken-in-asien
END:VEVENT
BEGIN:VTIMEZONE
TZID:Europe/Berlin
X-LIC-LOCATION:Europe/Berlin
BEGIN:DAYLIGHT
DTSTART;VALUE=DATE-TIME:20190331T030000
TZNAME:CEST
TZOFFSETFROM:+0100
TZOFFSETTO:+0200
END:DAYLIGHT
END:VTIMEZONE
END:VCALENDAR
