BEGIN:VCALENDAR
VERSION:2.0
PRODID:-//Plone.org//NONSGML plone.app.event//EN
X-WR-TIMEZONE:Europe/Berlin
BEGIN:VEVENT
SUMMARY:"Kämpferische Gewerkschaften aufbauen!" - Info- und Kennenlerntre
 ffen in Münster
DTSTART;TZID=Europe/Berlin;VALUE=DATE-TIME:20200124T190000
DTEND;TZID=Europe/Berlin;VALUE=DATE-TIME:20200124T220000
DTSTAMP;VALUE=DATE-TIME:20260423T122257Z
UID:b3faefff8e484ab0a706f6a15f287fa4@plone
CREATED;VALUE=DATE-TIME:20191122T112145Z
DESCRIPTION:Ob Ihr Mitglied werden wollt\, erst einmal reinschnuppern und/
 oder ganz praktisch aktiv werden – hier soll der Platz sein\, um ins Ges
 präch zu kommen\, Fragen zu stellen oder auch Eure Themen und Vorschläge
  einzubringen. Bei Interesse gibt es eine kleine Einführungspräsentation
  zur FAU\, vor allem soll jedoch Gelegenheit zum Austausch sein.\n\nDas IT
 P befindet sich im Hinterhof der Friedrich-Ebert-Straße 7\, so dass es au
 ch schnell zu erreichen ist\, wenn ihr mit dem Zug anreist (zum Haupteinga
 ng hinaus\, links in die kleine Bahnhofsstraße\, über die nächste Kreuz
 ung und dann links im Hof).
LAST-MODIFIED;VALUE=DATE-TIME:20191222T155128Z
LOCATION:ITP\, Friedrich-Ebert-Straße 7
URL:https://www.fau.org/vor-ort/muensterland/offenes-info-und-kennenlerntr
 effen
END:VEVENT
BEGIN:VTIMEZONE
TZID:Europe/Berlin
X-LIC-LOCATION:Europe/Berlin
BEGIN:STANDARD
DTSTART;VALUE=DATE-TIME:20191027T020000
TZNAME:CET
TZOFFSETFROM:+0200
TZOFFSETTO:+0100
END:STANDARD
END:VTIMEZONE
END:VCALENDAR
